BEGIN:VCALENDAR
VERSION:2.0
PRODID:-//Lakeside Community Chapel - ECPv6.15.20//NONSGML v1.0//EN
CALSCALE:GREGORIAN
METHOD:PUBLISH
X-ORIGINAL-URL:https://lakesidecommunitychapel.com
X-WR-CALDESC:Events for Lakeside Community Chapel
REFRESH-INTERVAL;VALUE=DURATION:PT1H
X-Robots-Tag:noindex
X-PUBLISHED-TTL:PT1H
BEGIN:VTIMEZONE
TZID:UTC
BEGIN:STANDARD
TZOFFSETFROM:+0000
TZOFFSETTO:+0000
TZNAME:UTC
DTSTART:20240101T000000
END:STANDARD
END:VTIMEZONE
BEGIN:VEVENT
DTSTART;TZID=UTC:20251228T100000
DTEND;TZID=UTC:20251228T110000
DTSTAMP:20260424T105322
CREATED:20251210T235401Z
LAST-MODIFIED:20251210T235719Z
UID:374-1766916000-1766919600@lakesidecommunitychapel.com
SUMMARY:Christmas Sunday Service
DESCRIPTION:Join us at Lakeside Community Chapel as we continue the celebration of Christ’s birth with a joyful Christmas Sunday Service. Come enjoy worship\, music\, and a message of hope as we gather together on this special morning.All are welcome—bring your family and friends!
URL:https://lakesidecommunitychapel.com/event/christmas-sunday-service/
LOCATION:Lakeside Community Chapel\, 236 Adams St\, Lakeside\, MT\, 59922
ATTACH;FMTTYPE=image/png:https://lakesidecommunitychapel.com/wp-content/uploads/2025/12/xmassunday.png
END:VEVENT
BEGIN:VEVENT
DTSTART;TZID=UTC:20251228T170000
DTEND;TZID=UTC:20251228T180000
DTSTAMP:20260424T105322
CREATED:20251210T225250Z
LAST-MODIFIED:20251210T230311Z
UID:347-1766941200-1766944800@lakesidecommunitychapel.com
SUMMARY:Jesus Rocks – An Evening of Music & Worship
DESCRIPTION:Join us at Lakeside Community Chapel on Sunday\, December 28th at 5:00 PM for Jesus Rocks\, a joyful night of worship featuring the incredible Kenny James Miller Band. \nCome experience powerful music\, uplifting community\, and an evening centered on faith\, celebration\, and the love of Christ. All are welcome—bring friends\, family\, and anyone who could use a little light this season!
URL:https://lakesidecommunitychapel.com/event/jesus-rocks-an-evening-of-music-worship/
LOCATION:Lakeside Community Chapel\, 236 Adams St\, Lakeside\, MT\, 59922
ATTACH;FMTTYPE=image/png:https://lakesidecommunitychapel.com/wp-content/uploads/2025/12/jesusrocks.png
END:VEVENT
END:VCALENDAR