BEGIN:VCALENDAR
VERSION:2.0
PRODID:-//Lakeside Community Chapel - ECPv6.15.20//NONSGML v1.0//EN
CALSCALE:GREGORIAN
METHOD:PUBLISH
X-ORIGINAL-URL:https://lakesidecommunitychapel.com
X-WR-CALDESC:Events for Lakeside Community Chapel
REFRESH-INTERVAL;VALUE=DURATION:PT1H
X-Robots-Tag:noindex
X-PUBLISHED-TTL:PT1H
BEGIN:VTIMEZONE
TZID:UTC
BEGIN:STANDARD
TZOFFSETFROM:+0000
TZOFFSETTO:+0000
TZNAME:UTC
DTSTART:20250101T000000
END:STANDARD
END:VTIMEZONE
BEGIN:VEVENT
DTSTART;TZID=UTC:20260218T183000
DTEND;TZID=UTC:20260218T193000
DTSTAMP:20260421T081936
CREATED:20260203T043912Z
LAST-MODIFIED:20260203T043912Z
UID:461-1771439400-1771443000@lakesidecommunitychapel.com
SUMMARY:Ash Wednesday Service
DESCRIPTION:Join Lakeside Community Chapel for a reflective Ash Wednesday Service on Wednesday\, February 18 at 6:30 PM. This meaningful evening marks the beginning of Lent with prayer\, scripture\, and the imposition of ashes—a time to pause\, reflect\, and prepare hearts for the season ahead. All are welcome.
URL:https://lakesidecommunitychapel.com/event/ash-wednesday-service/
LOCATION:MT
ATTACH;FMTTYPE=image/png:https://lakesidecommunitychapel.com/wp-content/uploads/2026/02/Square-Events-for-Chamber-Etc.png
END:VEVENT
END:VCALENDAR