BEGIN:VCALENDAR
VERSION:2.0
PRODID:-//Lakeside Community Chapel - ECPv6.15.20//NONSGML v1.0//EN
CALSCALE:GREGORIAN
METHOD:PUBLISH
X-WR-CALNAME:Lakeside Community Chapel
X-ORIGINAL-URL:https://lakesidecommunitychapel.com
X-WR-CALDESC:Events for Lakeside Community Chapel
REFRESH-INTERVAL;VALUE=DURATION:PT1H
X-Robots-Tag:noindex
X-PUBLISHED-TTL:PT1H
BEGIN:VTIMEZONE
TZID:UTC
BEGIN:STANDARD
TZOFFSETFROM:+0000
TZOFFSETTO:+0000
TZNAME:UTC
DTSTART:20240101T000000
END:STANDARD
END:VTIMEZONE
BEGIN:VEVENT
DTSTART;TZID=UTC:20250420T070000
DTEND;TZID=UTC:20250420T100000
DTSTAMP:20260424T161112
CREATED:20250401T052859Z
LAST-MODIFIED:20250401T053044Z
UID:329-1745132400-1745143200@lakesidecommunitychapel.com
SUMMARY:Easter Sunday
DESCRIPTION:Join us for the Sunrise Easter Service at Volunteer Park at 7AM with breakfast to follow at 8AM. \n\n\n\nWe’re excited to announce and welcome you to our 75th Anniversary Worship Celebration! Join the fellowship in the renovated original chapel at 10AM.
URL:https://lakesidecommunitychapel.com/event/easter-sunday/
LOCATION:MT
ATTACH;FMTTYPE=image/png:https://lakesidecommunitychapel.com/wp-content/uploads/2025/04/Community-Clean-Up-Day1.png
END:VEVENT
END:VCALENDAR