BEGIN:VCALENDAR
VERSION:2.0
PRODID:-//Lakeside Community Chapel - ECPv6.15.20//NONSGML v1.0//EN
CALSCALE:GREGORIAN
METHOD:PUBLISH
X-WR-CALNAME:Lakeside Community Chapel
X-ORIGINAL-URL:https://lakesidecommunitychapel.com
X-WR-CALDESC:Events for Lakeside Community Chapel
REFRESH-INTERVAL;VALUE=DURATION:PT1H
X-Robots-Tag:noindex
X-PUBLISHED-TTL:PT1H
BEGIN:VTIMEZONE
TZID:UTC
BEGIN:STANDARD
TZOFFSETFROM:+0000
TZOFFSETTO:+0000
TZNAME:UTC
DTSTART:20250101T000000
END:STANDARD
END:VTIMEZONE
BEGIN:VEVENT
DTSTART;TZID=UTC:20261031T160000
DTEND;TZID=UTC:20261031T180000
DTSTAMP:20260424T161259
CREATED:20251211T063253Z
LAST-MODIFIED:20251211T063253Z
UID:406-1793462400-1793469600@lakesidecommunitychapel.com
SUMMARY:Lakeside Trunk or Treat
DESCRIPTION:Lakeside Community Chapel is excited to join the fun at this year’s Trunk or Treat! We’re grateful to help provide space for the event and to serve families with a safe\, joy-filled evening of costumes\, candy\, and community. Bring the kids\, enjoy festive trunks\, and celebrate Halloween in a welcoming\, family-friendly atmosphere.
URL:https://lakesidecommunitychapel.com/event/lakeside-trunk-or-treat/
LOCATION:MT
ATTACH;FMTTYPE=image/png:https://lakesidecommunitychapel.com/wp-content/uploads/2025/12/mavs2.png
END:VEVENT
BEGIN:VEVENT
DTSTART;TZID=UTC:20261128T173000
DTEND;TZID=UTC:20261128T193000
DTSTAMP:20260424T161259
CREATED:20251211T063443Z
LAST-MODIFIED:20251211T063443Z
UID:409-1795887000-1795894200@lakesidecommunitychapel.com
SUMMARY:Lakeside Christmas Tree Lighting
DESCRIPTION:Join us in Lakeside for a joyful evening as we celebrate the season with the Christmas Tree Lighting! Come together with our community to spread cheer\, enjoy holiday music\, and remember the true reason for the season. A festive start to the holidays for all ages!
URL:https://lakesidecommunitychapel.com/event/lakeside-christmas-tree-lighting/
LOCATION:Volunteer Park\, Lakeside\, MT
ATTACH;FMTTYPE=image/png:https://lakesidecommunitychapel.com/wp-content/uploads/2025/12/mavs3.png
END:VEVENT
END:VCALENDAR